BEGIN:VCALENDAR
VERSION:2.0
PRODID:-//Cromer Avenue URC - ECPv6.15.20//NONSGML v1.0//EN
CALSCALE:GREGORIAN
METHOD:PUBLISH
X-ORIGINAL-URL:https://www.cromeraveurc.org.uk
X-WR-CALDESC:Events for Cromer Avenue URC
REFRESH-INTERVAL;VALUE=DURATION:PT1H
X-Robots-Tag:noindex
X-PUBLISHED-TTL:PT1H
BEGIN:VTIMEZONE
TZID:Europe/London
BEGIN:DAYLIGHT
TZOFFSETFROM:+0000
TZOFFSETTO:+0100
TZNAME:BST
DTSTART:20170326T010000
END:DAYLIGHT
BEGIN:STANDARD
TZOFFSETFROM:+0100
TZOFFSETTO:+0000
TZNAME:GMT
DTSTART:20171029T010000
END:STANDARD
BEGIN:DAYLIGHT
TZOFFSETFROM:+0000
TZOFFSETTO:+0100
TZNAME:BST
DTSTART:20180325T010000
END:DAYLIGHT
BEGIN:STANDARD
TZOFFSETFROM:+0100
TZOFFSETTO:+0000
TZNAME:GMT
DTSTART:20181028T010000
END:STANDARD
BEGIN:DAYLIGHT
TZOFFSETFROM:+0000
TZOFFSETTO:+0100
TZNAME:BST
DTSTART:20190331T010000
END:DAYLIGHT
BEGIN:STANDARD
TZOFFSETFROM:+0100
TZOFFSETTO:+0000
TZNAME:GMT
DTSTART:20191027T010000
END:STANDARD
END:VTIMEZONE
BEGIN:VTIMEZONE
TZID:UTC
BEGIN:STANDARD
TZOFFSETFROM:+0000
TZOFFSETTO:+0000
TZNAME:UTC
DTSTART:20150101T000000
END:STANDARD
END:VTIMEZONE
BEGIN:VEVENT
DTSTART;TZID=Europe/London:20181223T103000
DTEND;TZID=Europe/London:20181223T113000
DTSTAMP:20260422T123415
CREATED:20181109T202323Z
LAST-MODIFIED:20181109T202323Z
UID:4792-1545561000-1545564600@www.cromeraveurc.org.uk
SUMMARY:Christingle Service
DESCRIPTION:Family friendly service led by the Sunday Club \nCome along and make your own Christingle and here about the meaning of the different parts of the Christingle.
URL:https://www.cromeraveurc.org.uk/event/christingle-service/
CATEGORIES:Church Events
END:VEVENT
BEGIN:VEVENT
DTSTART;TZID=Europe/London:20181222T103000
DTEND;TZID=Europe/London:20181222T113000
DTSTAMP:20260422T123415
CREATED:20181109T201920Z
LAST-MODIFIED:20181109T201926Z
UID:4788-1545474600-1545478200@www.cromeraveurc.org.uk
SUMMARY:Christmas Crafts: Family Fun
DESCRIPTION:Nativity themed crafts. \nRefreshments available.
URL:https://www.cromeraveurc.org.uk/event/christmas-crafts-family-fun/
CATEGORIES:Church Events
END:VEVENT
BEGIN:VEVENT
DTSTART;TZID=Europe/London:20181202T103000
DTEND;TZID=Europe/London:20181202T113000
DTSTAMP:20260422T123415
CREATED:20181109T202112Z
LAST-MODIFIED:20181109T202112Z
UID:4790-1543746600-1543750200@www.cromeraveurc.org.uk
SUMMARY:Family Toy Service
DESCRIPTION:Annual family toy service led by the Sunday Club. \nChristmas gifts collected by the Salvation Army to be distributed to local children.
URL:https://www.cromeraveurc.org.uk/event/family-toy-service/
CATEGORIES:Church Events
END:VEVENT
BEGIN:VEVENT
DTSTART;TZID=Europe/London:20181201T103000
DTEND;TZID=Europe/London:20181201T113000
DTSTAMP:20260422T123415
CREATED:20181109T201803Z
LAST-MODIFIED:20181109T202443Z
UID:4786-1543660200-1543663800@www.cromeraveurc.org.uk
SUMMARY:Christmas Fair and Christmas Crafts
DESCRIPTION:Come along to spend some money at our stalls and let the children take part in some Christmas themed crafts. \nRefreshments available.
URL:https://www.cromeraveurc.org.uk/event/christmas-fair-and-christmas-crafts/
CATEGORIES:Church Events
END:VEVENT
BEGIN:VEVENT
DTSTART;TZID=UTC:20161106T100000
DTEND;TZID=UTC:20161106T230000
DTSTAMP:20260422T123415
CREATED:20160615T134500Z
LAST-MODIFIED:20160615T134500Z
UID:4205-1478426400-1478473200@www.cromeraveurc.org.uk
SUMMARY:All-Age Worship
DESCRIPTION:Led by Mr. Adam Vicarage. \nCoffee afterwards in the church hall.
URL:https://www.cromeraveurc.org.uk/event/all-age-worship-4/
CATEGORIES:Church Events
END:VEVENT
BEGIN:VEVENT
DTSTART;TZID=UTC:20161002T100000
DTEND;TZID=UTC:20161002T230000
DTSTAMP:20260422T123415
CREATED:20160615T134427Z
LAST-MODIFIED:20160615T134427Z
UID:4204-1475402400-1475449200@www.cromeraveurc.org.uk
SUMMARY:All-Age Worship
DESCRIPTION:Led by Mr. Adam Vicarage. \nCoffee afterwards in the church hall.
URL:https://www.cromeraveurc.org.uk/event/all-age-worship-3/
CATEGORIES:Church Events
END:VEVENT
BEGIN:VEVENT
DTSTART;TZID=UTC:20160901T100000
DTEND;TZID=UTC:20160901T230000
DTSTAMP:20260422T123415
CREATED:20160615T134356Z
LAST-MODIFIED:20160615T134356Z
UID:4203-1472724000-1472770800@www.cromeraveurc.org.uk
SUMMARY:All-Age Worship
DESCRIPTION:Led by Mr. Adam Vicarage. \nCoffee afterwards in the church hall.
URL:https://www.cromeraveurc.org.uk/event/all-age-worship-2/
CATEGORIES:Church Events
END:VEVENT
BEGIN:VEVENT
DTSTART;TZID=UTC:20160807T100000
DTEND;TZID=UTC:20160807T230000
DTSTAMP:20260422T123415
CREATED:20160615T134313Z
LAST-MODIFIED:20160615T134313Z
UID:4202-1470564000-1470610800@www.cromeraveurc.org.uk
SUMMARY:All-Age Worship
DESCRIPTION:Led by Revd. Adam Vicarage. \nCoffee afterwards in the church hall.
URL:https://www.cromeraveurc.org.uk/event/all-age-worship/
CATEGORIES:Church Events
END:VEVENT
BEGIN:VEVENT
DTSTART;TZID=UTC:20160703T100000
DTEND;TZID=UTC:20160703T230000
DTSTAMP:20260422T123415
CREATED:20160615T134931Z
LAST-MODIFIED:20160615T134931Z
UID:4208-1467540000-1467586800@www.cromeraveurc.org.uk
SUMMARY:All-Age Worship
DESCRIPTION:Led by Mr. Adam Vicarage. \nCoffee afterwards in the church hall.
URL:https://www.cromeraveurc.org.uk/event/all-age-worship-5/
CATEGORIES:Church Events
END:VEVENT
END:VCALENDAR